BEGIN:VCALENDAR
VERSION:2.0
PRODID:-//Librairie la pharmakeia - ECPv6.15.17.1//NONSGML v1.0//EN
CALSCALE:GREGORIAN
METHOD:PUBLISH
X-ORIGINAL-URL:https://lapharmakeia.fr
X-WR-CALDESC:Évènements pour Librairie la pharmakeia
REFRESH-INTERVAL;VALUE=DURATION:PT1H
X-Robots-Tag:noindex
X-PUBLISHED-TTL:PT1H
BEGIN:VTIMEZONE
TZID:Europe/Paris
BEGIN:DAYLIGHT
TZOFFSETFROM:+0100
TZOFFSETTO:+0200
TZNAME:CEST
DTSTART:20240331T010000
END:DAYLIGHT
BEGIN:STANDARD
TZOFFSETFROM:+0200
TZOFFSETTO:+0100
TZNAME:CET
DTSTART:20241027T010000
END:STANDARD
BEGIN:DAYLIGHT
TZOFFSETFROM:+0100
TZOFFSETTO:+0200
TZNAME:CEST
DTSTART:20250330T010000
END:DAYLIGHT
BEGIN:STANDARD
TZOFFSETFROM:+0200
TZOFFSETTO:+0100
TZNAME:CET
DTSTART:20251026T010000
END:STANDARD
BEGIN:DAYLIGHT
TZOFFSETFROM:+0100
TZOFFSETTO:+0200
TZNAME:CEST
DTSTART:20260329T010000
END:DAYLIGHT
BEGIN:STANDARD
TZOFFSETFROM:+0200
TZOFFSETTO:+0100
TZNAME:CET
DTSTART:20261025T010000
END:STANDARD
BEGIN:DAYLIGHT
TZOFFSETFROM:+0100
TZOFFSETTO:+0200
TZNAME:CEST
DTSTART:20270328T010000
END:DAYLIGHT
BEGIN:STANDARD
TZOFFSETFROM:+0200
TZOFFSETTO:+0100
TZNAME:CET
DTSTART:20271031T010000
END:STANDARD
END:VTIMEZONE
BEGIN:VEVENT
DTSTART;TZID=Europe/Paris:20260129T191000
DTEND;TZID=Europe/Paris:20260129T200000
DTSTAMP:20260421T223146
CREATED:20251211T160052Z
LAST-MODIFIED:20251211T160052Z
UID:8638-1769713800-1769716800@lapharmakeia.fr
SUMMARY:Méditation littéraire visio
DESCRIPTION:Pour participer à la méditation littéraire en visio\, merci de prendre votre billet ci-dessous \nUn mail avec le lien de la visio vous sera envoyé (vérifiez vos indésirables) \nPour le bon déroulé de la méditation\, prévoyez d’être dans un endroit calme\, \nSi possible avec des affaires confortables \navec : un petit coussin\, un tapis de yoga (ou de fitness)\, des couvertures \n 
URL:https://lapharmakeia.fr/event/meditation-litteraire-visio-5/
END:VEVENT
BEGIN:VEVENT
DTSTART;TZID=Europe/Paris:20260108T191000
DTEND;TZID=Europe/Paris:20260108T200000
DTSTAMP:20260421T223146
CREATED:20251211T155836Z
LAST-MODIFIED:20251211T155836Z
UID:8634-1767899400-1767902400@lapharmakeia.fr
SUMMARY:Méditation littéraire visio
DESCRIPTION:Pour participer à la méditation littéraire en visio\, merci de prendre votre billet ci-dessous \nUn mail avec le lien de la visio vous sera envoyé (vérifiez vos indésirables) \nPour le bon déroulé de la méditation\, prévoyez d’être dans un endroit calme\, \nSi possible avec des affaires confortables \navec : un petit coussin\, un tapis de yoga (ou de fitness)\, des couvertures \n 
URL:https://lapharmakeia.fr/event/meditation-litteraire-visio-4/
END:VEVENT
BEGIN:VEVENT
DTSTART;TZID=Europe/Paris:20251127T191000
DTEND;TZID=Europe/Paris:20251127T200000
DTSTAMP:20260421T223146
CREATED:20251115T173235Z
LAST-MODIFIED:20251115T173235Z
UID:7969-1764270600-1764273600@lapharmakeia.fr
SUMMARY:Méditation littéraire visio
DESCRIPTION:Pour participer à la méditation littéraire en visio\, merci de prendre votre billet ci-dessous \nUn mail avec le lien de la visio vous sera envoyé (vérifiez vos indésirables) \nPour le bon déroulé de la méditation\, prévoyez d’être dans un endroit calme\, \nSi possible avec des affaires confortables \navec : un petit coussin\, un tapis de yoga (ou de fitness)\, des couvertures \n 
URL:https://lapharmakeia.fr/event/meditation-litteraire-visio-3/
END:VEVENT
BEGIN:VEVENT
DTSTART;TZID=Europe/Paris:20251030T191000
DTEND;TZID=Europe/Paris:20251030T200000
DTSTAMP:20260421T223146
CREATED:20251016T115141Z
LAST-MODIFIED:20251016T115527Z
UID:7415-1761851400-1761854400@lapharmakeia.fr
SUMMARY:Méditation littéraire visio
DESCRIPTION:Pour participer à la méditation littéraire en visio\, merci de prendre votre billet ci-dessous \nUn mail avec le lien de la visio vous sera envoyé (vérifiez vos indésirables) \nPour le bon déroulé de la méditation\, prévoyez d’être dans un endroit calme\, \nSi possible avec des affaires confortables \navec : un petit coussin\, un tapis de yoga (ou de fitness)\, des couvertures \n 
URL:https://lapharmakeia.fr/event/meditation-litteraire-visio-2/
END:VEVENT
BEGIN:VEVENT
DTSTART;TZID=Europe/Paris:20251002T191000
DTEND;TZID=Europe/Paris:20251002T200000
DTSTAMP:20260421T223146
CREATED:20250911T180712Z
LAST-MODIFIED:20251002T165611Z
UID:5392-1759432200-1759435200@lapharmakeia.fr
SUMMARY:Méditation littéraire visio
DESCRIPTION:Pour participer à la méditation littéraire en visio\, merci de prendre votre billet ci-dessous \nUn mail avec le lien de la visio vous sera envoyé (vérifiez vos indésirables) \nPour le bon déroulé de la méditation\, prévoyez d’être dans un endroit calme\, \nSi possible avec des affaires confortables \navec : un petit coussin\, un tapis de yoga (ou de fitness)\, des couvertures
URL:https://lapharmakeia.fr/event/meditation-litteraire-visio/
END:VEVENT
END:VCALENDAR