BEGIN:VCALENDAR
VERSION:2.0
PRODID:-//wp-events-plugin.com//7.2.3.1//EN
TZID:Europe/Paris
X-WR-TIMEZONE:Europe/Paris
BEGIN:VEVENT
UID:451@lapharmakeia.fr
DTSTART;TZID=Europe/Paris:20260108T191000
DTEND;TZID=Europe/Paris:20260108T200000
DTSTAMP:20251211T155852Z
URL:https://lapharmakeia.fr/events/meditation-litteraire-avec-roxane-jeudi
 -19h10-3/
SUMMARY:Méditation littéraire - avec Roxane - jeudi 19h10
DESCRIPTION:Méditation littéraire avec Roxane (sur place) - Afin d'y assi
 ster depuis chez vous en visio\, merci de prendre votre billet unique (17e
 uros) ici \nLa Pharmakeia invente les méditations littéraires!\nTu as to
 ujours voulu méditer mais tu as de grandes difficultés à t'y mettre ou 
 à y trouver du plaisir?\nViens essayer les méditations littéraires\, qu
 i combinent le pouvoir de la méditation à celui de la littérature!\nQue
 lques respirations et ensuite\, simplement le pouvoir des mots qui t'empor
 te.\nLe tarif sur place: 10 euros en séance d’essai ensuite 20 euros ou
  bien 15 euros par carnet de 5 (règlement sur place). Merci de bien voulo
 ir vous inscrire via le formulaire ci-dessous\ndurée : 50mins\nPour les p
 ersonnes venant assister à la méditation littéraire sur place\, merci d
 e venir à la librairie à 18h50!\nVenir avec une tenue confortable
CATEGORIES:Méditation littéraire
LOCATION:Librairie La Pharmakeia\, 4 rue lafon\, marseille\, 13006\, France
X-APPLE-STRUCTURED-LOCATION;VALUE=URI;X-ADDRESS=4 rue lafon\, marseille\, 1
 3006\, France;X-APPLE-RADIUS=100;X-TITLE=Librairie La Pharmakeia:geo:0,0
END:VEVENT
BEGIN:VTIMEZONE
TZID:Europe/Paris
X-LIC-LOCATION:Europe/Paris
BEGIN:STANDARD
DTSTART:20251026T020000
TZOFFSETFROM:+0200
TZOFFSETTO:+0100
TZNAME:CET
END:STANDARD
END:VTIMEZONE
END:VCALENDAR